BEGIN:VCALENDAR
VERSION:2.0
PRODID:icalendar-ruby
CALSCALE:GREGORIAN
METHOD:PUBLISH
BEGIN:VEVENT
DTSTAMP:20260420T201942Z
UID:29-185329@fbcsilverhill.org
DTSTART:20261006T120000Z
DTEND:20261006T130000Z
CLASS:PUBLIC
CREATED:20260420T145919
DESCRIPTION:Join us on Tuesday mornings at the Magnolia Blossom Cafe for Bi
 ble study and fellowship.
LAST-MODIFIED:20260420T145919
LOCATION:Magnolia Blossom Cafe
SUMMARY:Men's Bible Study
URL;VALUE=URI:https://fbcsilverhill.org/events/mens-bible-study/2026-10-06
ATTACH;FILENAME=321I.jpg;FMTTYPE=image/jpeg:https://dq5pwpg1q8ru0.cloudfron
 t.net/2025/09/16/15/52/00/47fb54c3-3c73-4b7b-98f9-06e17edfb789/321I.jpg
END:VEVENT
END:VCALENDAR
